Package: IMMAN Version: 1.30.0 Command: /Library/Frameworks/R.framework/Resources/bin/R CMD build --keep-empty-dirs --no-resave-data IMMAN StartedAt: 2025-10-31 16:48:38 -0400 (Fri, 31 Oct 2025) EndedAt: 2025-10-31 16:50:36 -0400 (Fri, 31 Oct 2025) EllapsedTime: 118.2 seconds RetCode: 0 Status: OK PackageFile: IMMAN_1.30.0.tar.gz PackageFileSize: 45.01 KiB