Package: IMMAN Version: 1.30.0 Command: rm -rf IMMAN.buildbin-libdir && mkdir IMMAN.buildbin-libdir && /Users/biocbuild/BBS/utils/build-universal.sh IMMAN_1.30.0.tar.gz /Library/Frameworks/R.framework/Resources/bin/R IMMAN.buildbin-libdir StartedAt: 2025-10-31 23:10:42 -0400 (Fri, 31 Oct 2025) EndedAt: 2025-10-31 23:10:49 -0400 (Fri, 31 Oct 2025) EllapsedTime: 6.1 seconds RetCode: 0 Status: OK PackageFile: IMMAN_1.30.0.tgz PackageFileSize: 79.41 KiB