Package: IMAS Version: 1.34.0 Command: /home/biocbuild/bbs-3.22-bioc/R/bin/R CMD INSTALL IMAS StartedAt: 2025-11-13 15:46:30 -0500 (Thu, 13 Nov 2025) EndedAt: 2025-11-13 15:47:17 -0500 (Thu, 13 Nov 2025) EllapsedTime: 47.1 seconds RetCode: 0 Status: OK