Package: IMAS Version: 1.34.0 Command: /home/biocbuild/bbs-3.22-bioc/R/bin/R CMD build --keep-empty-dirs --no-resave-data --md5 IMAS StartedAt: 2025-11-13 18:16:19 -0500 (Thu, 13 Nov 2025) EndedAt: 2025-11-13 18:18:23 -0500 (Thu, 13 Nov 2025) EllapsedTime: 124.1 seconds RetCode: 1 Status: ERROR PackageFile: None PackageFileSize: NA