Package: IMAS Version: 1.34.0 Command: /Library/Frameworks/R.framework/Resources/bin/R CMD INSTALL IMAS StartedAt: 2025-11-03 15:44:42 -0500 (Mon, 03 Nov 2025) EndedAt: 2025-11-03 15:45:38 -0500 (Mon, 03 Nov 2025) EllapsedTime: 56.4 seconds RetCode: 0 Status: OK