Package: IMAS Version: 1.34.0 Command: /Library/Frameworks/R.framework/Resources/bin/R CMD build --keep-empty-dirs --no-resave-data IMAS StartedAt: 2025-11-03 17:25:40 -0500 (Mon, 03 Nov 2025) EndedAt: 2025-11-03 17:28:08 -0500 (Mon, 03 Nov 2025) EllapsedTime: 148.1 seconds RetCode: 1 Status: ERROR PackageFile: None PackageFileSize: NA