Package: IMAS Version: 1.32.0 Command: /home/biocbuild/R/R/bin/R CMD INSTALL IMAS StartedAt: 2025-10-09 20:59:39 -0000 (Thu, 09 Oct 2025) EndedAt: 2025-10-09 21:00:35 -0000 (Thu, 09 Oct 2025) EllapsedTime: 55.8 seconds RetCode: 0 Status: OK