Package: IMAS Version: 1.32.0 Command: /Library/Frameworks/R.framework/Resources/bin/R CMD build --keep-empty-dirs --no-resave-data IMAS StartedAt: 2025-04-21 16:40:46 -0400 (Mon, 21 Apr 2025) EndedAt: 2025-04-21 16:41:31 -0400 (Mon, 21 Apr 2025) EllapsedTime: 44.5 seconds RetCode: 0 Status: OK PackageFile: IMAS_1.32.0.tar.gz PackageFileSize: 600.8 KiB