Package: IMAS Version: 1.32.0 Command: rm -rf IMAS.buildbin-libdir && mkdir IMAS.buildbin-libdir && /Users/biocbuild/BBS/utils/build-universal.sh IMAS_1.32.0.tar.gz /Library/Frameworks/R.framework/Resources/bin/R IMAS.buildbin-libdir StartedAt: 2025-04-21 22:38:51 -0400 (Mon, 21 Apr 2025) EndedAt: 2025-04-21 22:39:08 -0400 (Mon, 21 Apr 2025) EllapsedTime: 17.4 seconds RetCode: 0 Status: OK PackageFile: IMAS_1.32.0.tgz PackageFileSize: 754.7 KiB