Package: ILoReg Version: 1.20.0 Command: /home/biocbuild/bbs-3.22-bioc/R/bin/R CMD INSTALL ILoReg StartedAt: 2025-11-13 15:21:58 -0500 (Thu, 13 Nov 2025) EndedAt: 2025-11-13 15:22:30 -0500 (Thu, 13 Nov 2025) EllapsedTime: 31.7 seconds RetCode: 0 Status: OK