Package: IHW Version: 1.38.0 Command: /Library/Frameworks/R.framework/Resources/bin/R CMD build --keep-empty-dirs --no-resave-data IHW StartedAt: 2025-11-02 17:28:35 -0500 (Sun, 02 Nov 2025) EndedAt: 2025-11-02 17:31:55 -0500 (Sun, 02 Nov 2025) EllapsedTime: 199.5 seconds RetCode: 0 Status: OK PackageFile: IHW_1.38.0.tar.gz PackageFileSize: 4.712 MiB