Package: IFAA Version: 1.12.0 Command: /home/biocbuild/bbs-3.22-bioc/R/bin/R CMD INSTALL IFAA StartedAt: 2025-11-02 15:46:18 -0500 (Sun, 02 Nov 2025) EndedAt: 2025-11-02 15:46:53 -0500 (Sun, 02 Nov 2025) EllapsedTime: 35.4 seconds RetCode: 0 Status: OK