Package: HybridMTest Version: 1.54.0 Command: /home/biocbuild/bbs-3.22-bioc/R/bin/R CMD INSTALL HybridMTest StartedAt: 2025-11-13 15:13:48 -0500 (Thu, 13 Nov 2025) EndedAt: 2025-11-13 15:13:57 -0500 (Thu, 13 Nov 2025) EllapsedTime: 9.1 seconds RetCode: 0 Status: OK