Package: HybridMTest Version: 1.54.0 Command: /home/biocbuild/bbs-3.22-bioc/R/bin/R CMD build --keep-empty-dirs --no-resave-data --md5 HybridMTest StartedAt: 2025-11-14 18:13:36 -0500 (Fri, 14 Nov 2025) EndedAt: 2025-11-14 18:13:46 -0500 (Fri, 14 Nov 2025) EllapsedTime: 10.0 seconds RetCode: 0 Status: OK PackageFile: HybridMTest_1.54.0.tar.gz PackageFileSize: 173.6 KiB