Package: HybridMTest Version: 1.54.0 Command: /Library/Frameworks/R.framework/Resources/bin/R CMD INSTALL HybridMTest StartedAt: 2025-11-10 15:07:30 -0500 (Mon, 10 Nov 2025) EndedAt: 2025-11-10 15:07:33 -0500 (Mon, 10 Nov 2025) EllapsedTime: 3.1 seconds RetCode: 0 Status: OK