Package: HybridMTest Version: 1.54.0 Command: /Library/Frameworks/R.framework/Resources/bin/R CMD build --keep-empty-dirs --no-resave-data HybridMTest StartedAt: 2025-11-10 16:43:54 -0500 (Mon, 10 Nov 2025) EndedAt: 2025-11-10 16:44:01 -0500 (Mon, 10 Nov 2025) EllapsedTime: 6.1 seconds RetCode: 0 Status: OK PackageFile: HybridMTest_1.54.0.tar.gz PackageFileSize: 171.8 KiB