Package: HybridExpress Version: 1.6.0 Command: /home/biocbuild/bbs-3.22-bioc/R/bin/R CMD INSTALL HybridExpress StartedAt: 2025-11-14 15:23:52 -0500 (Fri, 14 Nov 2025) EndedAt: 2025-11-14 15:24:20 -0500 (Fri, 14 Nov 2025) EllapsedTime: 28.3 seconds RetCode: 0 Status: OK