Package: HybridExpress Version: 1.6.0 Command: /home/biocbuild/bbs-3.22-bioc/R/bin/R CMD build --keep-empty-dirs --no-resave-data --md5 HybridExpress StartedAt: 2025-11-14 18:13:33 -0500 (Fri, 14 Nov 2025) EndedAt: 2025-11-14 18:14:50 -0500 (Fri, 14 Nov 2025) EllapsedTime: 77.1 seconds RetCode: 0 Status: OK PackageFile: HybridExpress_1.6.0.tar.gz PackageFileSize: 3.267 MiB