Package: HubPub Version: 1.18.0 Command: /Library/Frameworks/R.framework/Resources/bin/R CMD build --keep-empty-dirs --no-resave-data HubPub StartedAt: 2025-11-03 16:43:23 -0500 (Mon, 03 Nov 2025) EndedAt: 2025-11-03 16:43:40 -0500 (Mon, 03 Nov 2025) EllapsedTime: 16.2 seconds RetCode: 0 Status: OK PackageFile: HubPub_1.18.0.tar.gz PackageFileSize: 549.6 KiB