Package: HubPub Version: 1.18.0 Command: rm -rf HubPub.buildbin-libdir && mkdir HubPub.buildbin-libdir && /Users/biocbuild/BBS/utils/build-universal.sh HubPub_1.18.0.tar.gz /Library/Frameworks/R.framework/Resources/bin/R HubPub.buildbin-libdir StartedAt: 2025-10-31 23:10:22 -0400 (Fri, 31 Oct 2025) EndedAt: 2025-10-31 23:10:24 -0400 (Fri, 31 Oct 2025) EllapsedTime: 2.0 seconds RetCode: 0 Status: OK PackageFile: HubPub_1.18.0.tgz PackageFileSize: 558.1 KiB