Package: HuBMAPR Version: 1.4.0 Command: /Library/Frameworks/R.framework/Resources/bin/R CMD build --keep-empty-dirs --no-resave-data HuBMAPR StartedAt: 2025-11-10 16:43:39 -0500 (Mon, 10 Nov 2025) EndedAt: 2025-11-10 16:43:54 -0500 (Mon, 10 Nov 2025) EllapsedTime: 15.2 seconds RetCode: 0 Status: OK PackageFile: HuBMAPR_1.4.0.tar.gz PackageFileSize: 1.372 MiB