Package: HoloFoodR Version: 1.4.0 Command: /home/biocbuild/bbs-3.22-bioc/R/bin/R CMD build --keep-empty-dirs --no-resave-data --md5 HoloFoodR StartedAt: 2025-11-11 18:14:37 -0500 (Tue, 11 Nov 2025) EndedAt: 2025-11-11 18:17:25 -0500 (Tue, 11 Nov 2025) EllapsedTime: 168.2 seconds RetCode: 0 Status: OK PackageFile: HoloFoodR_1.4.0.tar.gz PackageFileSize: 3.115 MiB