Package: HilbertVisGUI Version: 1.68.0 Command: /home/biocbuild/R/R/bin/R CMD build --keep-empty-dirs --no-resave-data HilbertVisGUI StartedAt: 2025-11-11 02:27:32 -0000 (Tue, 11 Nov 2025) EndedAt: 2025-11-11 02:28:05 -0000 (Tue, 11 Nov 2025) EllapsedTime: 33.0 seconds RetCode: 0 Status: OK PackageFile: HilbertVisGUI_1.68.0.tar.gz PackageFileSize: 142.9 KiB