Package: HilbertVisGUI Version: 1.68.0 Command: /home/biocbuild/bbs-3.22-bioc/R/bin/R CMD INSTALL HilbertVisGUI StartedAt: 2025-11-11 15:07:24 -0500 (Tue, 11 Nov 2025) EndedAt: 2025-11-11 15:08:00 -0500 (Tue, 11 Nov 2025) EllapsedTime: 35.5 seconds RetCode: 0 Status: OK