Package: HilbertVisGUI Version: 1.68.0 Command: /home/biocbuild/bbs-3.22-bioc/R/bin/R CMD check --install=check:HilbertVisGUI.install-out.txt --library=/home/biocbuild/bbs-3.22-bioc/R/site-library --timings HilbertVisGUI_1.68.0.tar.gz StartedAt: 2025-11-12 00:33:32 -0500 (Wed, 12 Nov 2025) EndedAt: 2025-11-12 00:33:50 -0500 (Wed, 12 Nov 2025) EllapsedTime: 18.0 seconds RetCode: 0 Status: WARNINGS CheckDir: HilbertVisGUI.Rcheck Warnings: 1