Package: HilbertVisGUI Version: 1.66.1 Command: /home/biocbuild/bbs-3.21-bioc/R/bin/R CMD INSTALL HilbertVisGUI StartedAt: 2025-09-28 15:18:14 -0400 (Sun, 28 Sep 2025) EndedAt: 2025-09-28 15:18:46 -0400 (Sun, 28 Sep 2025) EllapsedTime: 32.4 seconds RetCode: 0 Status: OK