Package: HilbertVis Version: 1.68.0 Command: /Library/Frameworks/R.framework/Resources/bin/R CMD INSTALL HilbertVis StartedAt: 2025-11-03 15:09:52 -0500 (Mon, 03 Nov 2025) EndedAt: 2025-11-03 15:10:39 -0500 (Mon, 03 Nov 2025) EllapsedTime: 47.5 seconds RetCode: 0 Status: OK