Package: HilbertVis Version: 1.68.0 Command: /Library/Frameworks/R.framework/Resources/bin/R CMD build --keep-empty-dirs --no-resave-data HilbertVis StartedAt: 2025-11-03 17:22:17 -0500 (Mon, 03 Nov 2025) EndedAt: 2025-11-03 17:22:32 -0500 (Mon, 03 Nov 2025) EllapsedTime: 14.9 seconds RetCode: 0 Status: OK PackageFile: HilbertVis_1.68.0.tar.gz PackageFileSize: 1.206 MiB