Package: HilbertVis Version: 1.66.1 Command: /home/biocbuild/R/R/bin/R CMD INSTALL HilbertVis StartedAt: 2025-10-13 20:13:20 -0000 (Mon, 13 Oct 2025) EndedAt: 2025-10-13 20:13:45 -0000 (Mon, 13 Oct 2025) EllapsedTime: 25.2 seconds RetCode: 0 Status: OK