Package: HilbertVis Version: 1.66.1 Command: /home/biocbuild/R/R/bin/R CMD build --keep-empty-dirs --no-resave-data HilbertVis StartedAt: 2025-10-14 01:40:29 -0000 (Tue, 14 Oct 2025) EndedAt: 2025-10-14 01:40:39 -0000 (Tue, 14 Oct 2025) EllapsedTime: 10.0 seconds RetCode: 0 Status: OK PackageFile: HilbertVis_1.66.1.tar.gz PackageFileSize: 1.195 MiB