Package: HilbertVis Version: 1.66.0 Command: rm -rf HilbertVis.buildbin-libdir && mkdir HilbertVis.buildbin-libdir && /Users/biocbuild/BBS/utils/build-universal.sh HilbertVis_1.66.0.tar.gz /Library/Frameworks/R.framework/Resources/bin/R HilbertVis.buildbin-libdir StartedAt: 2025-04-21 22:38:21 -0400 (Mon, 21 Apr 2025) EndedAt: 2025-04-21 22:38:23 -0400 (Mon, 21 Apr 2025) EllapsedTime: 2.0 seconds RetCode: 0 Status: OK PackageFile: HilbertVis_1.66.0.tgz PackageFileSize: 1.118 MiB