Package: HilbertCurve Version: 2.4.0 Command: /Library/Frameworks/R.framework/Resources/bin/R CMD INSTALL HilbertCurve StartedAt: 2025-11-03 15:10:59 -0500 (Mon, 03 Nov 2025) EndedAt: 2025-11-03 15:11:06 -0500 (Mon, 03 Nov 2025) EllapsedTime: 6.7 seconds RetCode: 0 Status: OK