Package: HilbertCurve Version: 2.4.0 Command: /Library/Frameworks/R.framework/Resources/bin/R CMD build --keep-empty-dirs --no-resave-data HilbertCurve StartedAt: 2025-11-03 16:42:15 -0500 (Mon, 03 Nov 2025) EndedAt: 2025-11-03 16:42:24 -0500 (Mon, 03 Nov 2025) EllapsedTime: 9.1 seconds RetCode: 0 Status: OK PackageFile: HilbertCurve_2.4.0.tar.gz PackageFileSize: 407.7 KiB