Package: HilbertCurve Version: 2.4.0 Command: rm -rf HilbertCurve.buildbin-libdir && mkdir HilbertCurve.buildbin-libdir && /Users/biocbuild/BBS/utils/build-universal.sh HilbertCurve_2.4.0.tar.gz /Library/Frameworks/R.framework/Resources/bin/R HilbertCurve.buildbin-libdir StartedAt: 2025-11-02 23:08:01 -0500 (Sun, 02 Nov 2025) EndedAt: 2025-11-02 23:08:09 -0500 (Sun, 02 Nov 2025) EllapsedTime: 8.2 seconds RetCode: 0 Status: OK PackageFile: HilbertCurve_2.4.0.tgz PackageFileSize: 755.6 KiB