Package: HicAggR Version: 1.6.0 Command: /home/biocbuild/R/R/bin/R CMD INSTALL HicAggR StartedAt: 2025-11-24 21:36:55 -0000 (Mon, 24 Nov 2025) EndedAt: 2025-11-24 21:37:34 -0000 (Mon, 24 Nov 2025) EllapsedTime: 38.5 seconds RetCode: 0 Status: OK