Package: HicAggR Version: 1.6.0 Command: /home/biocbuild/R/R/bin/R CMD build --keep-empty-dirs --no-resave-data HicAggR StartedAt: 2025-11-21 03:09:45 -0000 (Fri, 21 Nov 2025) EndedAt: 2025-11-21 03:15:49 -0000 (Fri, 21 Nov 2025) EllapsedTime: 364.2 seconds RetCode: 0 Status: OK PackageFile: HicAggR_1.6.0.tar.gz PackageFileSize: 2.879 MiB