Package: HicAggR Version: 1.6.0 Command: /Library/Frameworks/R.framework/Resources/bin/R CMD INSTALL HicAggR StartedAt: 2025-11-03 15:35:03 -0500 (Mon, 03 Nov 2025) EndedAt: 2025-11-03 15:35:43 -0500 (Mon, 03 Nov 2025) EllapsedTime: 39.2 seconds RetCode: 0 Status: OK