Package: HicAggR Version: 1.6.0 Command: /Library/Frameworks/R.framework/Resources/bin/R CMD build --keep-empty-dirs --no-resave-data HicAggR StartedAt: 2025-11-03 17:20:45 -0500 (Mon, 03 Nov 2025) EndedAt: 2025-11-03 17:26:16 -0500 (Mon, 03 Nov 2025) EllapsedTime: 331.4 seconds RetCode: 0 Status: OK PackageFile: HicAggR_1.6.0.tar.gz PackageFileSize: 3.331 MiB