Package: HicAggR Version: 1.6.0 Command: rm -rf HicAggR.buildbin-libdir && mkdir HicAggR.buildbin-libdir && /Users/biocbuild/BBS/utils/build-universal.sh HicAggR_1.6.0.tar.gz /Library/Frameworks/R.framework/Resources/bin/R HicAggR.buildbin-libdir StartedAt: 2025-11-04 01:44:31 -0500 (Tue, 04 Nov 2025) EndedAt: 2025-11-04 01:45:14 -0500 (Tue, 04 Nov 2025) EllapsedTime: 42.8 seconds RetCode: 0 Status: OK PackageFile: HicAggR_1.6.0.tgz PackageFileSize: 3.24 MiB