Package: HicAggR Version: 1.4.0 Command: /home/biocbuild/R/R/bin/R CMD INSTALL HicAggR StartedAt: 2025-10-06 20:43:20 -0000 (Mon, 06 Oct 2025) EndedAt: 2025-10-06 20:43:58 -0000 (Mon, 06 Oct 2025) EllapsedTime: 37.9 seconds RetCode: 0 Status: OK