Package: HicAggR Version: 1.4.0 Command: rm -rf HicAggR.buildbin-libdir && mkdir HicAggR.buildbin-libdir && /Users/biocbuild/BBS/utils/build-universal.sh HicAggR_1.4.0.tar.gz /Library/Frameworks/R.framework/Resources/bin/R HicAggR.buildbin-libdir StartedAt: 2025-10-15 18:50:55 -0400 (Wed, 15 Oct 2025) EndedAt: 2025-10-15 18:51:32 -0400 (Wed, 15 Oct 2025) EllapsedTime: 37.2 seconds RetCode: 0 Status: OK PackageFile: HicAggR_1.4.0.tgz PackageFileSize: 3.24 MiB