Package: HiTC Version: 1.54.0 Command: /home/biocbuild/bbs-3.22-bioc/R/bin/R CMD INSTALL HiTC StartedAt: 2025-11-11 15:30:51 -0500 (Tue, 11 Nov 2025) EndedAt: 2025-11-11 15:31:28 -0500 (Tue, 11 Nov 2025) EllapsedTime: 37.2 seconds RetCode: 0 Status: OK