Package: HiTC Version: 1.54.0 Command: /home/biocbuild/bbs-3.22-bioc/R/bin/R CMD check --install=check:HiTC.install-out.txt --library=/home/biocbuild/bbs-3.22-bioc/R/site-library --timings HiTC_1.54.0.tar.gz StartedAt: 2025-11-12 00:34:37 -0500 (Wed, 12 Nov 2025) EndedAt: 2025-11-12 00:40:25 -0500 (Wed, 12 Nov 2025) EllapsedTime: 348.4 seconds RetCode: 0 Status: WARNINGS CheckDir: HiTC.Rcheck Warnings: 2