Package: HiTC Version: 1.54.0 Command: /home/biocbuild/bbs-3.22-bioc/R/bin/R CMD build --keep-empty-dirs --no-resave-data --md5 HiTC StartedAt: 2025-11-11 18:14:11 -0500 (Tue, 11 Nov 2025) EndedAt: 2025-11-11 18:16:06 -0500 (Tue, 11 Nov 2025) EllapsedTime: 115.1 seconds RetCode: 0 Status: OK PackageFile: HiTC_1.54.0.tar.gz PackageFileSize: 3.139 MiB