Package: HiTC Version: 1.52.0 Command: /home/biocbuild/bbs-3.21-bioc/R/bin/R CMD build --keep-empty-dirs --no-resave-data HiTC StartedAt: 2025-10-15 18:00:22 -0400 (Wed, 15 Oct 2025) EndedAt: 2025-10-15 18:02:15 -0400 (Wed, 15 Oct 2025) EllapsedTime: 113.1 seconds RetCode: 0 Status: OK PackageFile: HiTC_1.52.0.tar.gz PackageFileSize: 3.136 MiB