Package: HiTC Version: 1.52.0 Command: rm -rf HiTC.buildbin-libdir && mkdir HiTC.buildbin-libdir && /Users/biocbuild/BBS/utils/build-universal.sh HiTC_1.52.0.tar.gz /Library/Frameworks/R.framework/Resources/bin/R HiTC.buildbin-libdir StartedAt: 2025-04-22 00:50:00 -0400 (Tue, 22 Apr 2025) EndedAt: 2025-04-22 00:50:55 -0400 (Tue, 22 Apr 2025) EllapsedTime: 54.6 seconds RetCode: 0 Status: OK PackageFile: HiTC_1.52.0.tgz PackageFileSize: 3.691 MiB