Package: HiTC Version: 1.52.0 Command: /Library/Frameworks/R.framework/Resources/bin/R CMD INSTALL HiTC StartedAt: 2025-10-13 16:39:05 -0400 (Mon, 13 Oct 2025) EndedAt: 2025-10-13 16:39:48 -0400 (Mon, 13 Oct 2025) EllapsedTime: 43.0 seconds RetCode: 0 Status: OK