Package: HiTC Version: 1.52.0 Command: /Library/Frameworks/R.framework/Resources/bin/R CMD build --keep-empty-dirs --no-resave-data HiTC StartedAt: 2025-10-14 02:22:49 -0400 (Tue, 14 Oct 2025) EndedAt: 2025-10-14 02:25:33 -0400 (Tue, 14 Oct 2025) EllapsedTime: 163.9 seconds RetCode: 0 Status: OK PackageFile: HiTC_1.52.0.tar.gz PackageFileSize: 3.126 MiB