Package: HiTC Version: 1.54.0 Maintainer: Nicolas Servant MaintainerEmail: nicolas.servant at curie.fr git_url: https://git.bioconductor.org/packages/HiTC git_branch: RELEASE_3_22 git_last_commit: f8056e1 git_last_commit_date: 2025-10-29 10:10:49 -0400 (Wed, 29 Oct 2025)