Package: HiLDA Version: 1.24.0 Command: /home/biocbuild/R/R/bin/R CMD INSTALL HiLDA StartedAt: 2025-11-13 22:10:45 -0000 (Thu, 13 Nov 2025) EndedAt: 2025-11-13 22:10:46 -0000 (Thu, 13 Nov 2025) EllapsedTime: 1.0 seconds RetCode: 1 Status: ERROR